BEGIN:VCALENDAR
VERSION:2.0
PRODID:-//wp-events-plugin.com//7.2.3.1//EN
TZID:Europe/Paris
X-WR-TIMEZONE:Europe/Paris
BEGIN:VEVENT
UID:2536@ridin-family.com
DTSTART;TZID=Europe/Paris:20210419T140000
DTEND;TZID=Europe/Paris:20210419T170000
DTSTAMP:20210410T202611Z
URL:https://www.ridin-family.com/evenements/stage-vtt-maniabilite-05jr-enf
 ants-a-partir-de-9-ans-a-lacroix-falgarde-5-eleves-3/
SUMMARY:Stage VTT 0\,5jr enfants à partir de 9 ans à Lacroix-Falgarde
DESCRIPTION:Stage VTT débutants / intermédiaires.\n\nAccessible aux Biker
  1 et Biker 2 ou extérieurs au club à partir de 9 ans.\n\nProgramme type
  :\n\n 	Mise en place et échauffements\n 	Exercices théoriques autour d'
 un thème ou Jeux de groupes\n 	Randonnée de mise en pratique des compét
 ences ou Bikepark\n\nLieu de pratique : Bikepark de Lacroix-Falgarde.\n\n
 Équipement nécessaire:\n\n 	Vélo en bon état avec embouts de guidons\n
  	Casque obligatoire\n 	Tenue adaptée à la pratique et aux conditions m
 étéo (3 couches max\, pas de doudoune\, chaussettes longues\, gants long
 s)\n 	Bouteilles d’eau / gourde / CamelBak\n\nEncadrant : Pierre\, monit
 eur Ridin'Family. Tel : 06 87 79 41 10.\n\nLieu de RDV : Lacroix-Falgarde\
 , 14H00.\n\nTarif inscription : 25€.\n\nStage limité à 10 participants
 .\n\nRespecter les gestes barrières (masque avant et après le cours\, di
 stances de sécurité\, matériel personnel).
ATTACH;FMTTYPE=image/jpeg:https://www.ridin-family.com/wp-content/uploads/
 2020/06/Photo-2171-scaled.jpg
CATEGORIES:ENFANTS VTT,STAGES,STAGES ENFANTS
LOCATION:Lacroix-Falgarde Bike Park\, Les Ramiers\, espace sportif\, Lacroi
 x-Falgarde\, 31120\, France
GEO:43.499398;1.40982
X-APPLE-STRUCTURED-LOCATION;VALUE=URI;X-ADDRESS=Les Ramiers\, espace sporti
 f\, Lacroix-Falgarde\, 31120\, France;X-APPLE-RADIUS=100;X-TITLE=Lacroix-F
 algarde Bike Park:geo:43.499398,1.40982
END:VEVENT
BEGIN:VTIMEZONE
TZID:Europe/Paris
X-LIC-LOCATION:Europe/Paris
BEGIN:DAYLIGHT
DTSTART:20210328T030000
TZOFFSETFROM:+0100
TZOFFSETTO:+0200
TZNAME:CEST
END:DAYLIGHT
END:VTIMEZONE
END:VCALENDAR