BEGIN:VCALENDAR
VERSION:2.0
PRODID:-//wp-events-plugin.com//7.2.3.1//EN
TZID:Europe/Paris
X-WR-TIMEZONE:Europe/Paris
BEGIN:VEVENT
UID:5760@ridin-family.com
DTSTART;TZID=Europe/Paris:20220917T080000
DTEND;TZID=Europe/Paris:20220918T180000
DTSTAMP:20220218T171311Z
URL:https://www.ridin-family.com/evenements/trial-cordon-17-18-septembre-2
 022/
SUMMARY:TRIAL Cordon 17-18 septembre 2022
DESCRIPTION:Coupe de France\n\n\n\n\n
ATTACH;FMTTYPE=image/jpeg:https://www.ridin-family.com/wp-content/uploads/
 2020/06/Photo-Trial-YA-1219-scaled.jpg
CATEGORIES:Compétitions,VTT Trial National
END:VEVENT
BEGIN:VTIMEZONE
TZID:Europe/Paris
X-LIC-LOCATION:Europe/Paris
BEGIN:DAYLIGHT
DTSTART:20220327T030000
TZOFFSETFROM:+0100
TZOFFSETTO:+0200
TZNAME:CEST
END:DAYLIGHT
END:VTIMEZONE
END:VCALENDAR