BEGIN:VCALENDAR
VERSION:2.0
PRODID:-//wp-events-plugin.com//7.2.3.1//EN
TZID:Europe/Paris
X-WR-TIMEZONE:Europe/Paris
BEGIN:VEVENT
UID:8434@ridin-family.com
DTSTART;TZID=Europe/Paris:20230513T080000
DTEND;TZID=Europe/Paris:20230513T180000
DTSTAMP:20230508T133105Z
URL:https://www.ridin-family.com/evenements/trial-saix-13-mai-2023-3eme-ma
 nche-coupe-grand-sud-doccitanie/
SUMMARY:TRIAL Saïx 13 mai 2023 / 4eme et 5eme manche Coupe Grand Sud d'Occ
 itanie
DESCRIPTION:Championnat VTT Trial Occitanie 2023.\n\nLieu : Saïx.\n\nClub 
 organisateur : Bike Academy.\n\n\n\n\nBulletin d'inscription papier à tra
 nsmettre au club organisateur. \n\n\n\nLicence FFC 2023 obligatoire (atten
 tion pas de licence journée possible).\n\n\n\n
ATTACH;FMTTYPE=image/jpeg:https://www.ridin-family.com/wp-content/uploads/
 2023/05/image-Saix-13-mai.jpg
CATEGORIES:Compétitions,VTT Trial Régional
END:VEVENT
BEGIN:VTIMEZONE
TZID:Europe/Paris
X-LIC-LOCATION:Europe/Paris
BEGIN:DAYLIGHT
DTSTART:20230326T030000
TZOFFSETFROM:+0100
TZOFFSETTO:+0200
TZNAME:CEST
END:DAYLIGHT
END:VTIMEZONE
END:VCALENDAR