BEGIN:VCALENDAR
VERSION:2.0
PRODID:-//wp-events-plugin.com//7.2.3.1//EN
TZID:Europe/Paris
X-WR-TIMEZONE:Europe/Paris
BEGIN:VEVENT
UID:2120@ridin-family.com
DTSTART;TZID=Europe/Paris:20200909T180000
DTEND;TZID=Europe/Paris:20200909T193000
DTSTAMP:20200908T184103Z
URL:https://www.ridin-family.com/evenements/vtt-coteaux/
SUMMARY:VTT Coteaux
DESCRIPTION:Sortie rythmée.
CATEGORIES:Sortie Sportive
LOCATION:Bastide-Falgarde\, Bastide Falgarde\, lacroix-falgarde\, 31120\, F
 rance
GEO:43.49918;1.42377
X-APPLE-STRUCTURED-LOCATION;VALUE=URI;X-ADDRESS=Bastide Falgarde\, lacroix-
 falgarde\, 31120\, France;X-APPLE-RADIUS=100;X-TITLE=Bastide-Falgarde:geo:
 43.49918,1.42377
END:VEVENT
BEGIN:VTIMEZONE
TZID:Europe/Paris
X-LIC-LOCATION:Europe/Paris
BEGIN:DAYLIGHT
DTSTART:20200329T030000
TZOFFSETFROM:+0100
TZOFFSETTO:+0200
TZNAME:CEST
END:DAYLIGHT
END:VTIMEZONE
END:VCALENDAR